BEGIN:VCALENDAR
VERSION:2.0
PRODID:-//Ogunquit Performing Arts - ECPv6.15.20//NONSGML v1.0//EN
CALSCALE:GREGORIAN
METHOD:PUBLISH
X-WR-CALNAME:Ogunquit Performing Arts
X-ORIGINAL-URL:https://ogunquitperformingarts.org
X-WR-CALDESC:Events for Ogunquit Performing Arts
REFRESH-INTERVAL;VALUE=DURATION:PT1H
X-Robots-Tag:noindex
X-PUBLISHED-TTL:PT1H
BEGIN:VTIMEZONE
TZID:America/New_York
BEGIN:DAYLIGHT
TZOFFSETFROM:-0500
TZOFFSETTO:-0400
TZNAME:EDT
DTSTART:20250309T070000
END:DAYLIGHT
BEGIN:STANDARD
TZOFFSETFROM:-0400
TZOFFSETTO:-0500
TZNAME:EST
DTSTART:20251102T060000
END:STANDARD
BEGIN:DAYLIGHT
TZOFFSETFROM:-0500
TZOFFSETTO:-0400
TZNAME:EDT
DTSTART:20260308T070000
END:DAYLIGHT
BEGIN:STANDARD
TZOFFSETFROM:-0400
TZOFFSETTO:-0500
TZNAME:EST
DTSTART:20261101T060000
END:STANDARD
BEGIN:DAYLIGHT
TZOFFSETFROM:-0500
TZOFFSETTO:-0400
TZNAME:EDT
DTSTART:20270314T070000
END:DAYLIGHT
BEGIN:STANDARD
TZOFFSETFROM:-0400
TZOFFSETTO:-0500
TZNAME:EST
DTSTART:20271107T060000
END:STANDARD
END:VTIMEZONE
BEGIN:VEVENT
DTSTART;TZID=America/New_York:20260201T140000
DTEND;TZID=America/New_York:20260201T140000
DTSTAMP:20260425T105229
CREATED:20251027T211740Z
LAST-MODIFIED:20260201T024359Z
UID:10000240-1769954400-1769954400@ogunquitperformingarts.org
SUMMARY:*CANCELLED* Classic Film Series: ROMANCE
DESCRIPTION:click HERE to join the email list for more information\n			\n				\n				\n				\n				\n				We are sorry to announce that the screening scheduled for Sunday afternoon February 1st\, has been unfortunately cancelled.  The Ogunquit Baptist Church has experienced a broken water pipe and has cancelled all activities in the Church until repairs can be made.\n \nWe regret any inconvenience!\n \nCheck back for updates on upcoming screenings.
URL:https://ogunquitperformingarts.org/event/the-annual-classic-film-series-returns-2/
LOCATION:Ogunquit Baptist Church\, 157 Shore Road\, Ogunquit\, ME\, 03907\, United States
CATEGORIES:Classic Film Series
ATTACH;FMTTYPE=image/png:https://ogunquitperformingarts.org/wp-content/uploads/2025/10/Romance-Classic-Film-Series.png
END:VEVENT
BEGIN:VEVENT
DTSTART;TZID=America/New_York:20260215T140000
DTEND;TZID=America/New_York:20260215T140000
DTSTAMP:20260425T105229
CREATED:20251023T013606Z
LAST-MODIFIED:20251121T152326Z
UID:10000234-1771164000-1771164000@ogunquitperformingarts.org
SUMMARY:Classic Film Series - ROMANCE
DESCRIPTION:click HERE to join the email list and learn the film title!\n			\n				\n				\n				\n				\n				OPA’s 24th Annual Classic Film Series will take place this season at OgunquitBaptist Church\, 157 Shore Road in Ogunquit\, in their first floor communitymeeting room. \nScreenings will occur on two Sunday afternoons per month. February’s Classic Movie Theme: ROMANCE \nDue to licensing restrictions\, titles and actors can only be promoted by postings at Ogunquit Baptist Church\, and through our email list. If you are not already on the mailing list\, you can enroll HERE. \nThe Sunday afternoon series is a great opportunity for fellowship with friends andfamily\, and provides antidote to winter’s cabin fever malaise.Admission\, parking and popcorn are free.
URL:https://ogunquitperformingarts.org/event/classic-film-series-musicals-4/
LOCATION:Ogunquit Baptist Church\, 157 Shore Road\, Ogunquit\, ME\, 03907\, United States
CATEGORIES:Classic Film Series
ATTACH;FMTTYPE=image/png:https://ogunquitperformingarts.org/wp-content/uploads/2025/10/Romance-Classic-Film-Series.png
END:VEVENT
END:VCALENDAR