BEGIN:VCALENDAR
VERSION:2.0
PRODID:-//Ogunquit Performing Arts - ECPv6.15.20//NONSGML v1.0//EN
CALSCALE:GREGORIAN
METHOD:PUBLISH
X-ORIGINAL-URL:https://ogunquitperformingarts.org
X-WR-CALDESC:Events for Ogunquit Performing Arts
REFRESH-INTERVAL;VALUE=DURATION:PT1H
X-Robots-Tag:noindex
X-PUBLISHED-TTL:PT1H
BEGIN:VTIMEZONE
TZID:America/New_York
BEGIN:DAYLIGHT
TZOFFSETFROM:-0500
TZOFFSETTO:-0400
TZNAME:EDT
DTSTART:20240310T070000
END:DAYLIGHT
BEGIN:STANDARD
TZOFFSETFROM:-0400
TZOFFSETTO:-0500
TZNAME:EST
DTSTART:20241103T060000
END:STANDARD
BEGIN:DAYLIGHT
TZOFFSETFROM:-0500
TZOFFSETTO:-0400
TZNAME:EDT
DTSTART:20250309T070000
END:DAYLIGHT
BEGIN:STANDARD
TZOFFSETFROM:-0400
TZOFFSETTO:-0500
TZNAME:EST
DTSTART:20251102T060000
END:STANDARD
BEGIN:DAYLIGHT
TZOFFSETFROM:-0500
TZOFFSETTO:-0400
TZNAME:EDT
DTSTART:20260308T070000
END:DAYLIGHT
BEGIN:STANDARD
TZOFFSETFROM:-0400
TZOFFSETTO:-0500
TZNAME:EST
DTSTART:20261101T060000
END:STANDARD
END:VTIMEZONE
BEGIN:VEVENT
DTSTART;TZID=America/New_York:20251011T193000
DTEND;TZID=America/New_York:20251011T213000
DTSTAMP:20260425T164624
CREATED:20250820T015413Z
LAST-MODIFIED:20250825T191706Z
UID:10000228-1760211000-1760218200@ogunquitperformingarts.org
SUMMARY:Randall Hodgkinson and Leslie Amper: Four Hands\, One Piano
DESCRIPTION:Renowned classical pianist\, Randall Hodgkinson\, returns to Ogunquit\, where he has appeared multiple times as a soloist\, and with Boston Chamber Music. This time he will be joined by equally acclaimed pianist\, Leslie Amper\, also his spouse\, for a special performance on OPA’s Steinway\, developed just for Ogunquit Performing Art’s 18th Annual Elizabeth Dunaway Burnham’s Piano Festival. They regularly perform together\, a four hand\, two piano repertoire. Perhaps their best known recording together is “The Manatee: Piano Music of Bernard Hoffer.” \n			\n				Purchase Tickets\n			\n			\n				\n				\n				\n				\n				\n				\n				\n				\n				\n				The Program: \nBrahms Selections from Waltzes opus 39 \nMendelssohn Nocturne and Scherzo from A Midsummer Night’s Dream \nMozart Sonata in C  \nSchubert Grand Duo \n			\n				\n				\n				\n				\n				Tickets to this performance are available three weeks before the concert date on this website. Click here to purchase in advance. Tickets may also be purchased at  Crickets Corner Beach and Toy\, 41 Shore Rd\, the Ogunquit Welcome Center\, 20 Shore Rd\, and the Dunaway Center\, 23 School St. \n			\n			\n				\n				\n				\n				\n			\n				\n				\n				\n				\n				\n				\n				\n				\n				\n				\n				\n			\n			\n				\n				\n				\n				\n				\n				\n				\n				\n				\n				Randall Hodgkinson\n“The finest performance I have ever heard of this very difficult piece. It was as if he was reading my mind….” Aaron Copland on hearing pianist Randall Hodgkinson performing his Piano Fantasy in Jordan Hall\, Boston \nRandy achieved recognition as the Grand Prize winner of the International American Music competition\, sponsored by Carnegie Hall and the Rockefeller Foundation\, winner in the JS Bach International Competition\, and as the recipient of the Tanglewood Music Center’s prestigious Cabot Award. His solo orchestral performances include appearances with the Atlanta and Boston Symphony Orchestras\, the Philadelphia and Cleveland Orchestras\, and the Buffalo Philharmonic Orchestra\, and internationally with the Iceland Philharmonic Orchestra\, and the Orchestra of Santa Cecilia in Rome. He has had successful collaborations with such well-regarded musical giants as Leonard Bernstein and Gunther Schuller. \nAs both Randy’s parents were musicians\, Randy began his musical career at a very young age\, with his mother as his first teacher. “Discovered” at a music festival at age 15\, he was encouraged to apply for admission to the New England Conservatory of Music\, where he earned a BA\, MM\, and AD. \nHis musical repertoire spans from JS Bach to Donald Marino\, and he performed the world premier of the piano concerto of Gardner Read at the Eastman School of Music in Rochester\, N.Y. \nHe currently serves on the faculties of the New England Conservatory\, the Longy School of Music of Bard College\, and Wellesley College. \nwww.wellesley.edu/people/randall-hodgkinson \n			\n			\n				\n				\n				\n				\n			\n				\n				\n				\n				\n				\n				\n				\n				\n				\n				\n				\n			\n			\n				\n				\n				\n				\n				\n				\n				\n				\n				\n				Leslie Amper \n“The highlight of the program was a most commanding and serious performance of Beethoven’s Diabelli Variations…She built the series in a mighty span\, intensely engaged throughout.” New York Times \nLeslie Amper launched her career with a critically acclaimed debut in the Carnegie Recital Hall. While still a conservatory student\, she won the first annual Jordan Hall Honors Competition and was selected to play Prokofiev’s Piano Concerto #3 at her graduation ceremony from The New England Conservatory of Music. Taking advantage of a program offered through the Pittsburgh public schools for serious high school musicians\, Leslie further honed her musical talents during summers at highly regarded music camps and festivals. \nA winner of the National Endowment for the Arts Solo Recitalist Fellowship Grant\, she performed in Boston\, New York\, Pittsburgh\, and Washington D.C. She also toured the United States as the musical component for the Smithsonian American Art Museum exhibition 1934: A New Deal for Artists. An acknowledged scholar and practitioner of contemporary music\, she is equally adept at accompanying silent film\, and has compiled piano accompaniments at the Harvard Film Archives for the short films of King Vidor’s The Crowd\, among others. She also performed onstage piano in Peter Sellars’ production of Chekhov’s A Seagull at the American National Theater. Leslie has continued to lecture and perform internationally in England\, Italy and Austria\, and at Art Museums around the country\, including but not limited to the National Gallery of Art\, the Norton Museum of Art. In 2020\, she performed virtual concerts with the Boston Symphony Orchestra. \nShe currently teaches at the Longy School of Music of Bard College\, the New England Conservatory Preparatory Department\, and Wheaton College. She has held residencies at the Universities of Washington and Arizona\, and has lectured at Boston University and the University of Pittsburgh\, as well as at the New Hampshire Music Festival\, where she is a regular performer. \nwww.leslieamper.com \n			\n			\n				\n				\n				\n				\n			\n				\n				\n				\n				\n				\n				\n				Purchase Tickets
URL:https://ogunquitperformingarts.org/event/18th-annual-elizabeth-dunaway-burnham-piano-festival-randall-hodgkinson-and-leslie-amper-four-hands-one-piano/
LOCATION:The Barn Gallery\, 3 Hartwig Lane (off Bourne Lane at Shore Road)\, Ogunquit\, Maine\, 03907
CATEGORIES:Elizabeth Dunaway Burnham Piano Festival,Live Performance
ATTACH;FMTTYPE=image/png:https://ogunquitperformingarts.org/wp-content/uploads/2025/08/Untitled-design-6-e1755702702675.png
END:VEVENT
BEGIN:VEVENT
DTSTART;TZID=America/New_York:20251017T193000
DTEND;TZID=America/New_York:20251017T213000
DTSTAMP:20260425T164624
CREATED:20250820T020752Z
LAST-MODIFIED:20251003T002821Z
UID:10000229-1760729400-1760736600@ogunquitperformingarts.org
SUMMARY:Jonathan Bass\, pianist
DESCRIPTION:Virtuoso pianist\, Jonathan Bass\, brings his wide-ranging repertoire and talent to Ogunquit for the first time.  Jonathan enjoys a multi-faceted career\, and appears frequently throughout the United States and around the world as soloist and chamber musician.  Of his 1994 Weill Hall at Carnegie Hall debut\, New York Concert Review wrote\, “A technical presence to be reckoned with…soaring with a feeling of lyrical discovery.” \n“Bass is everything a pianist should be: encompassing technical brilliance without showiness\, musical and emotional depth\, careful thought and an architectural sense of structure. He has a huge dynamic range\, and what impressed me the most about his performance was his extremely delicate and controlled pianissimo\, probably the hardest thing to do well on the piano.” Christopher Hyde\, Maine Classical Beat \n			\n				Purchase Tickets\n			\n				\n				\n				\n				\n				Tickets to this performance are available three weeks before the concert date on this website. Click here to purchase in advance. Tickets may also be purchased at  Crickets Corner Beach and Toy\, 41 Shore Rd\, the Ogunquit Welcome Center\, 20 Shore Rd\, and the Dunaway Center\, 23 School St. \n			\n			\n				\n				\n				\n				\n				\n				\n				\n				\n				\n				The Program: \nSonata in C Major\, Hob. XVI:50 HaydnAllegroAdagioAllegro molto \nMazurka in A Minor\, Op. 59 No. 1 ChopinMazurka in A-Flat Major\, Op. 59 No. 2Mazurka in F-Sharp Minor\, Op. 59 No. 3 \nSonata No. 2 in B-Flat Minor\, Op. 35 ChopinGrave; Doppio movimentoScherzoMarche funèbre: LentoFinale: Presto \n-Intermission- \nPiano Variations (1930) Copland \nGaspard de la nuit RavelOndineLe gibetScarbo \n			\n			\n				\n				\n				\n				\n			\n				\n				\n				\n				\n				\n				\n				\n				\n				\n				\n				\n			\n			\n				\n				\n				\n				\n				\n				\n				\n				\n				\n				Jonathan Bass\nAmerican pianist Jonathan Bass appears frequently throughout the United States and around the world as soloist and chamber musician. He is a regular presence at Symphony Hall and Jordan Hall in Boston\, and at Tanglewood. His solo and chamber music recordings have received high acclaim from Gramophone Magazine. Internationally\, he has performed in China\, Israel\, Japan\, Lithuania\, Poland\, Spain\, and Russia. He has been featured on many radio programs throughout the United States\, including National Public Radio’s ‘Performance Today’. Bass has performed as concerto solo soloist with numerous orchestras\, including the Boston Pops and the North Carolina Symphony. Of his 1994 Weill Hall at Carnegie Hall debut\, New York Concert Review wrote\, “A technical presence to be reckoned with…soaring with a feeling of lyrical discovery.”Bass was awarded First Prizes in the 1993 Joanna Hodges International PianoCompetition\, the 1984 American National Chopin Competition\, the 1989 American Pianists Association Beethoven Fellowship Competition\, and the 1983 National Arts Club Competition. He also received the Bronze Medal and Mozart Prize at the 1987 Robert Casadesus International Piano Competition. \nCollaborative highlights include multiple guest appearances with the Boston Symphony Chamber Players\, and recitals with violinist Joseph Silverstein. He also partners with his wife\, BSO violinist Tatiana Dimitriades\, in the Boston Duo. For more than 20 years\, as the pianist and a founding member of the Walden Chamber Players\, he performed on a variety of chamber music series and residencies across the United States and Canada. \nHe has recorded music by Larry Bell\, Samuel Barber\, Marion Bauer\, Amy Beach\, Paul Bowles\, Daniel Pinkham\, Quincy Porter\, Walter Piston\, Ned Rorem\, Gerhard Schedl\, Augusta Read Thomas\, as well as Bach\, Chopin\, and Scriabin. \nA graduate of the Juilliard School as a student of Adele Marcus and Sasha Gorodnitski\, Jonathan Bass holds a Doctor of Music degree from the Indiana University School of Music\, where he studied with\, and was teaching assistant to\, Menahem Pressler. He also studied at the Tchaikovsky Conservatory in Moscow\, a rare opportunity for an American at that time. Bass is a Professor of Piano at Boston Conservatory at Berklee and serves on the faculty of the New England Conservatory Preparatory School. His students have won many competition prizes\, and he has given numerous master classes across the country. \nJonathan Bass is a Steinway Artist. \nwww.jonathanbass.net \n			\n				Purchase Tickets
URL:https://ogunquitperformingarts.org/event/18th-annual-elizabeth-dunaway-burnham-piano-festival-jonathan-bass-pianist/
LOCATION:The Barn Gallery\, 3 Hartwig Lane (off Bourne Lane at Shore Road)\, Ogunquit\, Maine\, 03907
CATEGORIES:Elizabeth Dunaway Burnham Piano Festival,Live Performance
ATTACH;FMTTYPE=image/png:https://ogunquitperformingarts.org/wp-content/uploads/2025/08/Untitled-design-7-e1755702393118.png
END:VEVENT
BEGIN:VEVENT
DTSTART;TZID=America/New_York:20251019T150000
DTEND;TZID=America/New_York:20251019T180000
DTSTAMP:20260425T164624
CREATED:20250820T021502Z
LAST-MODIFIED:20250823T233953Z
UID:10000230-1760886000-1760896800@ogunquitperformingarts.org
SUMMARY:Piano Festival: Student Piano Recital
DESCRIPTION:The 18th Annual Elizabeth Dunaway Burnham Piano Festival concludes with the Student Piano Recital\, showcasing  the area’s best young pianists\, performing on Ogunquit Performing Arts Committee’s world class Steinway piano before a live audience in a beautiful setting. \nThe festival\, and particularly this popular event\, honors the memory of Elizabeth Dunaway Burnham (“Betty”)\, and is inspired by her own life as a piano student\, performer and teacher. As a student\, she first received a music degree from Smith College and continued her studies with renowned concert pianists and faculty members from Dunbarton College in Washington\, D.C. and Julliard School of Music\, in New York City. \nThe founder and 1st chair of Ogunquit Performing Arts (OPA)\, Betty saw to it that OPA acquired its spectacular Steinway Model C Grand Piano\, which still remains its greatest treasure.
URL:https://ogunquitperformingarts.org/event/18th-annual-elizabeth-dunaway-burnham-piano-festival-student-piano-recital/
LOCATION:The Barn Gallery\, 3 Hartwig Lane (off Bourne Lane at Shore Road)\, Ogunquit\, Maine\, 03907
CATEGORIES:Elizabeth Dunaway Burnham Piano Festival
ATTACH;FMTTYPE=image/jpeg:https://ogunquitperformingarts.org/wp-content/uploads/2025/08/Untitled-design-1.jpg
END:VEVENT
END:VCALENDAR