BEGIN:VCALENDAR
VERSION:2.0
PRODID:-//Ogunquit Performing Arts - ECPv6.15.20//NONSGML v1.0//EN
CALSCALE:GREGORIAN
METHOD:PUBLISH
X-WR-CALNAME:Ogunquit Performing Arts
X-ORIGINAL-URL:https://ogunquitperformingarts.org
X-WR-CALDESC:Events for Ogunquit Performing Arts
REFRESH-INTERVAL;VALUE=DURATION:PT1H
X-Robots-Tag:noindex
X-PUBLISHED-TTL:PT1H
BEGIN:VTIMEZONE
TZID:America/New_York
BEGIN:DAYLIGHT
TZOFFSETFROM:-0500
TZOFFSETTO:-0400
TZNAME:EDT
DTSTART:20250309T070000
END:DAYLIGHT
BEGIN:STANDARD
TZOFFSETFROM:-0400
TZOFFSETTO:-0500
TZNAME:EST
DTSTART:20251102T060000
END:STANDARD
BEGIN:DAYLIGHT
TZOFFSETFROM:-0500
TZOFFSETTO:-0400
TZNAME:EDT
DTSTART:20260308T070000
END:DAYLIGHT
BEGIN:STANDARD
TZOFFSETFROM:-0400
TZOFFSETTO:-0500
TZNAME:EST
DTSTART:20261101T060000
END:STANDARD
BEGIN:DAYLIGHT
TZOFFSETFROM:-0500
TZOFFSETTO:-0400
TZNAME:EDT
DTSTART:20270314T070000
END:DAYLIGHT
BEGIN:STANDARD
TZOFFSETFROM:-0400
TZOFFSETTO:-0500
TZNAME:EST
DTSTART:20271107T060000
END:STANDARD
END:VTIMEZONE
BEGIN:VEVENT
DTSTART;TZID=America/New_York:20260412T140000
DTEND;TZID=America/New_York:20260412T140000
DTSTAMP:20260425T120911
CREATED:20251023T014309Z
LAST-MODIFIED:20251121T152500Z
UID:10000237-1776002400-1776002400@ogunquitperformingarts.org
SUMMARY:Classic Film Series - Crime
DESCRIPTION:click HERE to join the email list and learn the film title!\n			\n				\n				\n				\n				\n				OPA’s 24th Annual Classic Film Series will take place this season at Ogunquit Baptist Church\, 157 Shore Road in Ogunquit\, in their first floor community meeting room. \nThis is the only screening for the month of April. April’s Classic Movie Theme: CRIME. \nDue to licensing restrictions\, titles and actors can only be promoted by postings at Ogunquit Baptist Church\, and through our email list. If you are not already on the mailing list\, you can enroll HERE. \nThe Sunday afternoon series is a great opportunity for fellowship with friends and family\, and provides antidote to winter’s cabin fever malaise.Admission\, parking and popcorn are free.
URL:https://ogunquitperformingarts.org/event/classic-film-series-romance-3/
LOCATION:Ogunquit Baptist Church\, 157 Shore Road\, Ogunquit\, ME\, 03907\, United States
CATEGORIES:Classic Film Series
ATTACH;FMTTYPE=image/png:https://ogunquitperformingarts.org/wp-content/uploads/2025/10/Crime-Classic-Film-Series.png
END:VEVENT
BEGIN:VEVENT
DTSTART;TZID=America/New_York:20260515T193000
DTEND;TZID=America/New_York:20260515T213000
DTSTAMP:20260425T120911
CREATED:20260223T022532Z
LAST-MODIFIED:20260321T013529Z
UID:10000243-1778873400-1778880600@ogunquitperformingarts.org
SUMMARY:Tom Snow and Friends Jazz Ensemble
DESCRIPTION:Ogunquit Performing Arts is excited to present pianist & bandleader Tom Snow once again for a performance of his jazz ensemble upstairs at Jonathan’s in Ogunquit.\n			\n			\n				\n				\n				\n				\n			\n				\n				\n				\n				\n				\n				\n				\n				\n				\n				\n				Tom Snow\, Best known as a celebrated and prolific songwriter\, singer/songwriter and arranger\, recording artist\, premier pianist\, and bandleader\, across almost every genre of the 70’s\, 80’s and 90’s\, Tom Snow has become a highly acclaimed educator. \nUpon graduating from Berklee College of Music\, with a degree in Music Composition\, Tom set out to pursue a career in songwriting\, postponing his dream of becoming a jazz pianist. He signed with Capitol Records as a solo performer\, producing two albums before changing his focus to writing for others. \nIn the first year of this change in focus\, his first BMI airplay award came with Rita Coolidge’s recording of “You” which he had written and performed on his first solo album\, and his writing career was “off and running.” \nHe has been nominated for or won over multiple years\, Academy Awards (such as “Let’s Hear it for the Boy”-Footloose)\, Emmys (such as Fame LA) \, Grammys (Song of the Year\, Non-Musical Show Album)\, Golden Globe (Best Song)\, Tony (Best Musical). His songs have topped the charts sung by such well known recording artists as Selena\, Bonnie Raitt\, Linda Ronstadt\, Aaron Neville\, Cher\, Olivia Newton-John\, Amy Grant\, Barry Manilow\, Dolly Parton\, Kenny Rogers\, Joe Cocker\, Dionne Warwick\, Joe Walsh\, Levon Helm\, and Mick Fleetwood. \n			\n			\n				\n				\n				\n				\n				\n				\n				\n				\n				\n				\n			\n			\n				\n				\n				\n				\n			\n				\n				\n				\n				\n				\n				\n				Buy Tickets\n			\n			\n				\n				\n				\n				\n			\n				\n				\n				\n				\n				\n				\n			\n				\n				\n				\n				\n			\n				\n				\n				\n				\n				\n				\n				\n				\n				\n				\n				For this concert\, Tom has invited four master musicians to join him. This night will be filled with excitement as they come together to magically create arrangements of beloved songs from the jazz canon. \n			\n			\n				\n				\n				\n				\n			\n				\n				\n				\n				\n				\n				\n				\n				\n				\n				\n				\n			\n			\n				\n				\n				\n				\n				\n				\n				\n				\n				\n				Ralph Norris\, Saxophonist\, has been a fixture of the New England music scene for more than 50 years. Having performed and recorded for 35 years alongside many world-renowned musicians\, including bandleader and pianist Tom Snow\, he has also performed and recorded with beloved Maine musicians Don Doane and Terry White. \n			\n			\n				\n				\n				\n				\n			\n				\n				\n				\n				\n				\n				\n				\n				\n				\n				\n				Phil McGowan\, Drummer\, has performed at concert halls\, clubs\, music festivals and cruise ships in Europe\, Africa and Asia. He has shared the stage with many inspiring artists\, including Judy Collins\, American Idol finalists\, John Stevens and Siobhan Magnus\, the Portland Symphony Orchestra\, Billy Pierce\, Herb Pomeroy\, and many others. \n			\n			\n				\n				\n				\n				\n				\n				\n				\n				\n				\n				\n			\n			\n				\n				\n				\n				\n			\n				\n				\n				\n				\n				\n				\n				\n				\n				\n				\n				\n			\n			\n				\n				\n				\n				\n				\n				\n				\n				\n				\n				Katie Oberholtzer\, Jazz vocalist\, has worked and performed with several world class musicians including Christian Mc Bride\, John Pizzarelli Shelly Borg\, Byron Lynch and Cyrille Aimee. She has performed at many prestigious venues\, including Dizzy’s Club in Jazz at Lincoln Center\, Currently based in NYC\, when in New England\, she can be seen performing regularly with Maine’s premiere big band\, the Portland Jazz Orchestra. \n			\n			\n				\n				\n				\n				\n			\n				\n				\n				\n				\n				\n				\n				\n				\n				\n				\n				Marshall Wood\, Bass\, has performed in top jazz festivals in the U.S.\, Canada\, Europe\, and South America\, and has appeared on many major network television shows. For over 40 years\, he has played and recorded with such jazz masters as Big Joe Turner\, Anita O’Day\, Dizzy Gillespie\, Clark Terry\, Marian McPartland\, Nelson Riddle\, Joe Williams\, and dozens of others. He toured for many years as recording and touring bassist\, with Tony Bennett\, up to his last performance.. He is featured on Bennett’s Double Platinum Grammy Award winning album Duets II\, and his duet recording with Lady Gaga. \n			\n			\n				\n				\n				\n				\n				\n				\n				\n				\n				\n				\n			\n			\n				\n				\n				\n				\n			\n				\n				\n				\n				\n				\n				\n				Buy Tickets
URL:https://ogunquitperformingarts.org/event/tom-snow-and-friends-jazz-ensemble/
LOCATION:Jonathan’s Ogunquit\, 92 Bourne Ln\, Ogunquit\, ME\, 03907\, United States
CATEGORIES:Live Jazz
ATTACH;FMTTYPE=image/jpeg:https://ogunquitperformingarts.org/wp-content/uploads/2025/07/Tom-Snow.jpg
END:VEVENT
BEGIN:VEVENT
DTSTART;TZID=America/New_York:20260605T193000
DTEND;TZID=America/New_York:20260605T213000
DTSTAMP:20260425T120911
CREATED:20260223T023837Z
LAST-MODIFIED:20260409T022709Z
UID:10000244-1780687800-1780695000@ogunquitperformingarts.org
SUMMARY:30th ANNUAL CHAMBER MUSIC FESTIVAL Boston Chamber Music Ensemble of 8 Musicians
DESCRIPTION:30th ANNUAL CHAMBER MUSIC FESTIVAL Concert Extraordinaire Boston Chamber Music Ensemble of 8 Musicians\n			\n				\n				\n				\n				\n				30th anniversary of OPA Chamber Music Festival \nIn recent years\, OPA’s Chamber Music Festival has featured an ongoing partnership with Boston Chamber Music\, which every year puts together a special trio or quartet for the Ogunquit concerts\, unique to OPA. \nThis year\, in celebration of 30 years of OPA Chamber Music Festivals\, pianist/leader Randall Hodgkinson has brought together an ensemble of eight musicians (piano and seven strings)\, for a concert extraordinaire. \nTheir program will include the premiere performance of the brilliant overture to Rossini’s opera\, Semiramide\, transcribed by Hodgkinson especially for this occasion\, and the first-ever transcription for this group of instruments! \n			\n				BUY TICKETS NOW\n			\n				\n				\n				\n				\n				The Program:\nRossini: Overture to Semiramide for piano and string ensemble\, transcribed by Randall Hodgkinson. \nThis popular Overture is celebrated for its dramatic tension and brilliant climaxes\, often performed as a standalone concert piece.  Composed in 1823\, Semiramide opens with a 12-minute orchestral showcase of suspense\, melodic richness\, and Rossini’s signature crescendo techniques.  Although it contains material from the opera\, this bright Overture hardly suggests the blood and gore of the story that follows! \nMozart: Chamber version of Concerto in A\, K. 488 (arranged for string quintet and piano)  \nOne of Mozart’s finest and most lyrical concertos\, this 1786 work is admired for its lyricism\, emotional range\, and formal perfection.   It is a staple of the classical piano repertoire\, frequently performed by major pianists and orchestras worldwide. Critics often single out the second movement as a sublime exemplar of Mozart’s genius for expressing deep feeling with utmost simplicity and grace. \nBrahms: String Sextet in Bb\, No. 1\, Op. 18 \nThe Sextet is notable for its symphonic sound\, with Brahms utilizing the two cellos and two violas to create rich\, dark timbres. Written in 1860\, it is a masterpiece of chamber music\, blending youthful romantic lyricism with mature classical structure\, and is renowned for its warm\, orchestral textures\, tender melodies\, and the expansive emotional arc across its four movements. \n			\n			\n				\n				\n				\n				\n			\n				\n				\n				\n				\n				\n				\n			\n				\n				\n				\n				\n			\n				\n				\n				\n				\n				\n				\n				\n				\n				\n				\n				\n			\n			\n				\n				\n				\n				\n				\n				\n				\n				\n				\n				The Players: \nRandall Hodgkinson\, piano \nOmar Chen Guey\, violin \nAlice Hallstrom\, violin \nMark Berger\, viola \nPeter Sulski\, viola \nNicholas Johnson\, cello \nDavid Russell\, cello \nNathan Varga\, bass \n			\n			\n				\n				\n				\n				\n			\n				\n				\n				\n				\n				\n				\n				\n				\n				\n				\n				Queen Semiramide\, In Babylon\, 1905 painting by Cesare Saccaggi\n \n			\n			\n				\n				\n				\n				\n			\n				\n				\n				\n				\n				\n				\n			\n				\n				\n				\n				\n			\n				\n				\n				\n				\n				\n				\n				\n				\n				\n				\n				Join us for this concert of celebration!  Seating is limited\, so reserve your tickets today! \nLISTEN TO BRAHMS \n  \n*     *     * \n			\n				BUY TICKETS
URL:https://ogunquitperformingarts.org/event/30th-anniversary-of-opa-chamber-music-featuring-boston-chamber-music-ensemble/
LOCATION:The Barn Gallery\, 3 Hartwig Lane (off Bourne Lane at Shore Road)\, Ogunquit\, Maine\, 03907
CATEGORIES:Live Performance,Ogunquit Chamber Music Festival
ATTACH;FMTTYPE=image/png:https://ogunquitperformingarts.org/wp-content/uploads/2026/02/Untitled-design-10.png
END:VEVENT
BEGIN:VEVENT
DTSTART;TZID=America/New_York:20260612T193000
DTEND;TZID=America/New_York:20260612T213000
DTSTAMP:20260425T120911
CREATED:20260223T024555Z
LAST-MODIFIED:20260223T024559Z
UID:10000245-1781292600-1781299800@ogunquitperformingarts.org
SUMMARY:Frederick Moyer Jazz Trio
DESCRIPTION:Check back soon for more information.
URL:https://ogunquitperformingarts.org/event/frederick-moyer-jazz-trio/
LOCATION:The Barn Gallery\, 3 Hartwig Lane (off Bourne Lane at Shore Road)\, Ogunquit\, Maine\, 03907
CATEGORIES:Live Performance
ATTACH;FMTTYPE=image/png:https://ogunquitperformingarts.org/wp-content/uploads/2022/08/Fred-Moyer-3.png
END:VEVENT
END:VCALENDAR